BEGIN:VCALENDAR
VERSION:2.0
PRODID:-//Art N Vino - ECPv6.15.11//NONSGML v1.0//EN
CALSCALE:GREGORIAN
METHOD:PUBLISH
X-WR-CALNAME:Art N Vino
X-ORIGINAL-URL:https://artnvino.com
X-WR-CALDESC:Events for Art N Vino
REFRESH-INTERVAL;VALUE=DURATION:PT1H
X-Robots-Tag:noindex
X-PUBLISHED-TTL:PT1H
BEGIN:VTIMEZONE
TZID:America/New_York
BEGIN:DAYLIGHT
TZOFFSETFROM:-0500
TZOFFSETTO:-0400
TZNAME:EDT
DTSTART:20230312T070000
END:DAYLIGHT
BEGIN:STANDARD
TZOFFSETFROM:-0400
TZOFFSETTO:-0500
TZNAME:EST
DTSTART:20231105T060000
END:STANDARD
BEGIN:DAYLIGHT
TZOFFSETFROM:-0500
TZOFFSETTO:-0400
TZNAME:EDT
DTSTART:20240310T070000
END:DAYLIGHT
BEGIN:STANDARD
TZOFFSETFROM:-0400
TZOFFSETTO:-0500
TZNAME:EST
DTSTART:20241103T060000
END:STANDARD
BEGIN:DAYLIGHT
TZOFFSETFROM:-0500
TZOFFSETTO:-0400
TZNAME:EDT
DTSTART:20250309T070000
END:DAYLIGHT
BEGIN:STANDARD
TZOFFSETFROM:-0400
TZOFFSETTO:-0500
TZNAME:EST
DTSTART:20251102T060000
END:STANDARD
END:VTIMEZONE
BEGIN:VEVENT
DTSTART;TZID=America/New_York:20240601T180000
DTEND;TZID=America/New_York:20240601T210000
DTSTAMP:20260419T132825
CREATED:20240510T222229Z
LAST-MODIFIED:20240527T162823Z
UID:10000506-1717264800-1717275600@artnvino.com
SUMMARY:Lighthouse over the Dune - $42 - 3 Hour Private Event
DESCRIPTION:PRIVATE EVENT- PLEASE DO NOT REGISTER FOR THIS EVENT.  \nEVENT STARTS AT 6PM. ENDS AT 9pm.  \nTatiana’s Group only. Thank you. \nArt n’ Vino is a B.Y.O.B. paint and sip art studio. Ages 18+. You must be 21 to consume alcohol. Bring your favorite bottle of wine or other beverage\, your favorite snack and your favorite friends and we’ll take care of the rest. \n$42 for a 3 hour event which does not end abruptly\, we take pride in making sure you are happy with your painting.  Then relax for the next hour as the artist will “make rounds” helping as our guest drift out the door content with their masterpiece.
URL:https://artnvino.com/event/lighthouse-over-the-dune-42-3-hour-private-event/
LOCATION:Art ‘n Vino\, 350 Kennedy Blvd.\, Pittston\, PA\, 18640\, United States
CATEGORIES:Private
ATTACH;FMTTYPE=image/jpeg:https://artnvino.com/wp-content/uploads/2022/05/Lighthouse-over-the-Dune-800-pixels.jpg
END:VEVENT
BEGIN:VEVENT
DTSTART;TZID=America/New_York:20240606T183000
DTEND;TZID=America/New_York:20240606T213000
DTSTAMP:20260419T132825
CREATED:20240525T214344Z
LAST-MODIFIED:20240605T171131Z
UID:10000510-1717698600-1717709400@artnvino.com
SUMMARY:Poppy-  $42 - 3 Hour Event
DESCRIPTION:“Poppy”. Art n’ Vino is a B.Y.O.B. paint and sip art studio. Bring your favorite bottle of wine or other beverage\, your favorite snack and your favorite friends and we’ll take care of the rest. Ages 18 to attend. 21 to consume alcohol. \n$42 for a 3 hour event which does not end abruptly\, we take pride in making sure you are happy with your painting. All night events start at 6:30pm and instruction ends at 9:30. Then relax for the next hour as the artist will “make rounds” helping as our guest drift out the door content with their masterpiece.
URL:https://artnvino.com/event/poppy-42-3-hour-event-5/
LOCATION:Art ‘n Vino\, 350 Kennedy Blvd.\, Pittston\, PA\, 18640\, United States
CATEGORIES:Public
ATTACH;FMTTYPE=image/jpeg:https://artnvino.com/wp-content/uploads/2023/02/Poppy-800-pixels.jpg
END:VEVENT
BEGIN:VEVENT
DTSTART;TZID=America/New_York:20240609T000000
DTEND;TZID=America/New_York:20240612T235900
DTSTAMP:20260419T132825
CREATED:20240420T215553Z
LAST-MODIFIED:20240420T215553Z
UID:10000493-1717891200-1718236740@artnvino.com
SUMMARY:Closed for Vacation June 9th to June 12th
DESCRIPTION:Closed for Vacation June 9th to June 12th
URL:https://artnvino.com/event/closed-for-vacation-june-9th-to-june-12th/
LOCATION:Art ‘n Vino\, 350 Kennedy Blvd.\, Pittston\, PA\, 18640\, United States
END:VEVENT
BEGIN:VEVENT
DTSTART;TZID=America/New_York:20240622T183000
DTEND;TZID=America/New_York:20240622T213000
DTSTAMP:20260419T132825
CREATED:20240502T004506Z
LAST-MODIFIED:20240622T230555Z
UID:10000504-1719081000-1719091800@artnvino.com
SUMMARY:Campfire -  $42 - 3 Hour Event
DESCRIPTION:“Campfire” . Art n’ Vino is a B.Y.O.B. paint and sip art studio. Bring your favorite bottle of wine or other beverage\, your favorite snack and your favorite friends and we’ll take care of the rest. Ages 18 to attend. 21 to consume alcohol. \n$42 for a 3 hour event which does not end abruptly\, we take pride in making sure you are happy with your painting. All night events start at 6:30pm and instruction ends at 9:30. Then relax for the next hour as the artist will “make rounds” helping as our guest drift out the door content with their masterpiece.
URL:https://artnvino.com/event/campfire-new-art-42-3-hour-event-2/
LOCATION:Art ‘n Vino\, 350 Kennedy Blvd.\, Pittston\, PA\, 18640\, United States
CATEGORIES:Public
ATTACH;FMTTYPE=image/jpeg:https://artnvino.com/wp-content/uploads/2024/04/campfire-800pix.jpg
END:VEVENT
BEGIN:VEVENT
DTSTART;TZID=America/New_York:20240629T183000
DTEND;TZID=America/New_York:20240629T213000
DTSTAMP:20260419T132825
CREATED:20240525T221143Z
LAST-MODIFIED:20240525T221143Z
UID:10000513-1719685800-1719696600@artnvino.com
SUMMARY:Jamie's Pier-  $42 - 3 Hour Event
DESCRIPTION:“Jamie’s Pier” . Art n’ Vino is a B.Y.O.B. paint and sip art studio. Bring your favorite bottle of wine or other beverage\, your favorite snack and your favorite friends and we’ll take care of the rest. Ages 18 to attend. 21 to consume alcohol. \n$42 for a 3 hour event which does not end abruptly\, we take pride in making sure you are happy with your painting. All night events start at 6:30pm and instruction ends at 9:30. Then relax for the next hour as the artist will “make rounds” helping as our guest drift out the door content with their masterpiece.
URL:https://artnvino.com/event/jamies-pier-42-3-hour-event-2/
LOCATION:Art ‘n Vino\, 350 Kennedy Blvd.\, Pittston\, PA\, 18640\, United States
CATEGORIES:Public
ATTACH;FMTTYPE=image/jpeg:https://artnvino.com/wp-content/uploads/2022/05/Jamies-Pier-800-pixels.jpg
END:VEVENT
END:VCALENDAR