BEGIN:VCALENDAR
VERSION:2.0
PRODID:-//Art N Vino - ECPv6.15.11//NONSGML v1.0//EN
CALSCALE:GREGORIAN
METHOD:PUBLISH
X-ORIGINAL-URL:https://artnvino.com
X-WR-CALDESC:Events for Art N Vino
REFRESH-INTERVAL;VALUE=DURATION:PT1H
X-Robots-Tag:noindex
X-PUBLISHED-TTL:PT1H
BEGIN:VTIMEZONE
TZID:America/New_York
BEGIN:DAYLIGHT
TZOFFSETFROM:-0500
TZOFFSETTO:-0400
TZNAME:EDT
DTSTART:20230312T070000
END:DAYLIGHT
BEGIN:STANDARD
TZOFFSETFROM:-0400
TZOFFSETTO:-0500
TZNAME:EST
DTSTART:20231105T060000
END:STANDARD
BEGIN:DAYLIGHT
TZOFFSETFROM:-0500
TZOFFSETTO:-0400
TZNAME:EDT
DTSTART:20240310T070000
END:DAYLIGHT
BEGIN:STANDARD
TZOFFSETFROM:-0400
TZOFFSETTO:-0500
TZNAME:EST
DTSTART:20241103T060000
END:STANDARD
BEGIN:DAYLIGHT
TZOFFSETFROM:-0500
TZOFFSETTO:-0400
TZNAME:EDT
DTSTART:20250309T070000
END:DAYLIGHT
BEGIN:STANDARD
TZOFFSETFROM:-0400
TZOFFSETTO:-0500
TZNAME:EST
DTSTART:20251102T060000
END:STANDARD
BEGIN:DAYLIGHT
TZOFFSETFROM:-0500
TZOFFSETTO:-0400
TZNAME:EDT
DTSTART:20260308T070000
END:DAYLIGHT
BEGIN:STANDARD
TZOFFSETFROM:-0400
TZOFFSETTO:-0500
TZNAME:EST
DTSTART:20261101T060000
END:STANDARD
BEGIN:DAYLIGHT
TZOFFSETFROM:-0500
TZOFFSETTO:-0400
TZNAME:EDT
DTSTART:20270314T070000
END:DAYLIGHT
BEGIN:STANDARD
TZOFFSETFROM:-0400
TZOFFSETTO:-0500
TZNAME:EST
DTSTART:20271107T060000
END:STANDARD
END:VTIMEZONE
BEGIN:VEVENT
DTSTART;TZID=America/New_York:20260320T183000
DTEND;TZID=America/New_York:20260320T213000
DTSTAMP:20260419T180624
CREATED:20260219T225215Z
LAST-MODIFIED:20260318T204218Z
UID:10000819-1774031400-1774042200@artnvino.com
SUMMARY:Celebrate Social Workers $42 - 3 Hour  Private Event
DESCRIPTION:“Celebrate Social Workers” .This is a PRIVATE Even. Very popular and colorful subject for the spring season\, a classic from 2019.  Art n’ Vino is a B.Y.O.B. paint and sip art studio. Ages 18+. 21 to consume alcohol. \nBring your favorite bottle of wine or other beverage\, your favorite snack and your favorite friends and we’ll take care of the rest. \n$42 for a 3 hour event which does not end abruptly\, we take pride in making sure you are happy with your painting. All night events start at 6:30pm and instruction ends at 9:30. Then relax for the next hour as the artist will “make rounds” helping as our guest drift out the door content with their masterpiece.
URL:https://artnvino.com/event/peacock-42-3-hour-public-event/
LOCATION:Art ‘n Vino\, 350 Kennedy Blvd.\, Pittston\, PA\, 18640\, United States
CATEGORIES:Private,Public
ATTACH;FMTTYPE=image/jpeg:https://artnvino.com/wp-content/uploads/2022/06/phils-flowers-and-lemon-800pix.jpg
END:VEVENT
BEGIN:VEVENT
DTSTART;TZID=America/New_York:20260316T183000
DTEND;TZID=America/New_York:20260316T213000
DTSTAMP:20260419T180624
CREATED:20260219T231109Z
LAST-MODIFIED:20260219T231109Z
UID:10000820-1773685800-1773696600@artnvino.com
SUMMARY:Bob Ross Beginners Oil Painting Class $68 -3 Hours
DESCRIPTION:Bob Ross Beginners Oil Painting Class $68 -3 Hours \nIt looks easy when Bob Ross demonstrates a painting. My 22 year experience in doing these classes is that students are not fully up to par on the Bob Ross techniques just from watching Bob. This is a prerequisite to begin all future Bob Ross Classes. \nWe will start and finish a simple painting and go over various brush techniques for painting landscapes\, focusing on achieving specific effects with each brush type. Learn how different brushes excel at painting skies\, trees\, clouds\, grass\, and rocks. Only 6 students per class to insure plenty of individual face time per student.\nBefore or after you sign up for an open studio class\, Phil would love to chat with you about your goals. Please call 570-466 -9907.\nFee includes all art supplies\,canvas\,paint\,paper towels\, a carboard carry case for travel(wet canvas – $8 value) and use of all brushes mediums and tools.
URL:https://artnvino.com/event/bob-ross-beginners-oil-painting-class-68-3-hours-6/
LOCATION:PA
CATEGORIES:Private,Public
ATTACH;FMTTYPE=image/jpeg:https://artnvino.com/wp-content/uploads/2026/01/BR-calendar-insert-spring-blooms.jpg
END:VEVENT
BEGIN:VEVENT
DTSTART;TZID=America/New_York:20260314T140000
DTEND;TZID=America/New_York:20260314T170000
DTSTAMP:20260419T180624
CREATED:20260210T210444Z
LAST-MODIFIED:20260304T211226Z
UID:10000813-1773496800-1773507600@artnvino.com
SUMMARY:Sky's Birthday Private Party  $42 -3 Hour Public Event
DESCRIPTION:Sky’s Birthday Private Party $42 -3 Hour Public Event. This ia a Private Party. If you have not been invited\, Please do not register.
URL:https://artnvino.com/event/skys-birthday-private-party-42-3-hour-public-event/
LOCATION:Art ‘n Vino\, 350 Kennedy Blvd.\, Pittston\, PA\, 18640\, United States
CATEGORIES:Private
ATTACH;FMTTYPE=image/jpeg:https://artnvino.com/wp-content/uploads/2022/05/Spellbound-800-pixels.jpg
END:VEVENT
BEGIN:VEVENT
DTSTART;TZID=America/New_York:20260301T130000
DTEND;TZID=America/New_York:20260301T160000
DTSTAMP:20260419T180624
CREATED:20260105T222326Z
LAST-MODIFIED:20260109T215554Z
UID:10000801-1772370000-1772380800@artnvino.com
SUMMARY:Girls Day Off Private Party $42 1pm to 4pm
DESCRIPTION:Girls Day Off Private Party $42 !pm to 4pm. If your not invited \, please do not register for this party
URL:https://artnvino.com/event/candy-lombardo-claims-support-877-474-9462-ext-113-o-855-414-0431-f-clombardoproguardautomotive-com/
LOCATION:Art ‘n Vino\, 350 Kennedy Blvd.\, Pittston\, PA\, 18640\, United States
CATEGORIES:Private
ATTACH;FMTTYPE=image/jpeg:https://artnvino.com/wp-content/uploads/2023/02/Poppy-800-pixels.jpg
END:VEVENT
BEGIN:VEVENT
DTSTART;TZID=America/New_York:20260204T190000
DTEND;TZID=America/New_York:20260204T220000
DTSTAMP:20260419T180624
CREATED:20260103T040954Z
LAST-MODIFIED:20260203T184104Z
UID:10000799-1770231600-1770242400@artnvino.com
SUMMARY:Mushka's Birthday Private Party  $42 -3 Hour Public Event
DESCRIPTION:Mushka’s Birthday Private Party $42 -3 Hour Public Event. This ia a Private Party. If you have not been invited\, Please do not register.
URL:https://artnvino.com/event/unwelcomed-cat-42-3-hour-event-2/
LOCATION:Art ‘n Vino\, 350 Kennedy Blvd.\, Pittston\, PA\, 18640\, United States
CATEGORIES:Private
ATTACH;FMTTYPE=image/jpeg:https://artnvino.com/wp-content/uploads/2022/05/Going-Somewhere-800-pixels.jpg
END:VEVENT
BEGIN:VEVENT
DTSTART;TZID=America/New_York:20260103T140000
DTEND;TZID=America/New_York:20260103T170000
DTSTAMP:20260419T180624
CREATED:20251215T172021Z
LAST-MODIFIED:20251221T174754Z
UID:10000786-1767448800-1767459600@artnvino.com
SUMMARY:Ellens Private Birthday Party
DESCRIPTION:This event is a PRIVATE BIRTHDAY PARTY\, if you were not invited\, please do not register.
URL:https://artnvino.com/event/ellens-private-birthday-party/
LOCATION:Art ‘n Vino\, 350 Kennedy Blvd.\, Pittston\, PA\, 18640\, United States
CATEGORIES:Private,Public
ATTACH;FMTTYPE=image/jpeg:https://artnvino.com/wp-content/uploads/2022/05/simply-fall-trees_800.jpg
END:VEVENT
BEGIN:VEVENT
DTSTART;TZID=America/New_York:20250515T080000
DTEND;TZID=America/New_York:20250526T170000
DTSTAMP:20260419T180624
CREATED:20250306T203705Z
LAST-MODIFIED:20250503T231410Z
UID:10000655-1747296000-1748278800@artnvino.com
SUMMARY:Ireland Workshop
DESCRIPTION:
URL:https://artnvino.com/event/ireland-trip/
LOCATION:Art ‘n Vino\, 350 Kennedy Blvd.\, Pittston\, PA\, 18640\, United States
CATEGORIES:Private,Public
END:VEVENT
BEGIN:VEVENT
DTSTART;TZID=America/New_York:20250514T000000
DTEND;TZID=America/New_York:20250514T235900
DTSTAMP:20260419T180624
CREATED:20250410T212332Z
LAST-MODIFIED:20250509T215626Z
UID:10000673-1747180800-1747267140@artnvino.com
SUMMARY:Phil's IRELAND ART WORKSHOP
DESCRIPTION:Phil is taking some time off for a painting workshop in Ireland
URL:https://artnvino.com/event/phils-spring-vacation/
LOCATION:Art ‘n Vino\, 350 Kennedy Blvd.\, Pittston\, PA\, 18640\, United States
CATEGORIES:Private,Public
ATTACH;FMTTYPE=image/jpeg:https://artnvino.com/wp-content/uploads/2025/04/IRISH-COTTAGE-TRIP.jpg
END:VEVENT
BEGIN:VEVENT
DTSTART;TZID=America/New_York:20250511T000000
DTEND;TZID=America/New_York:20250511T235900
DTSTAMP:20260419T180624
CREATED:20250410T211857Z
LAST-MODIFIED:20250503T232140Z
UID:10000672-1746921600-1747007940@artnvino.com
SUMMARY:Happy Mothers Day
DESCRIPTION:Happy Mothers Day
URL:https://artnvino.com/event/happy-mothers-day/
LOCATION:Art ‘n Vino\, 350 Kennedy Blvd.\, Pittston\, PA\, 18640\, United States
CATEGORIES:Private,Public
ATTACH;FMTTYPE=image/jpeg:https://artnvino.com/wp-content/uploads/2025/04/motherslove800pix.jpg
END:VEVENT
BEGIN:VEVENT
DTSTART;VALUE=DATE:20250420
DTEND;VALUE=DATE:20250421
DTSTAMP:20260419T180624
CREATED:20230402T200036Z
LAST-MODIFIED:20250312T201139Z
UID:10000276-1745107200-1745193599@artnvino.com
SUMMARY:Happy Easter
DESCRIPTION:Happy Easter we are closed today.
URL:https://artnvino.com/event/happy-easter-3/
LOCATION:Art ‘n Vino\, 350 Kennedy Blvd.\, Pittston\, PA\, 18640\, United States
CATEGORIES:Private,Public
ATTACH;FMTTYPE=image/jpeg:https://artnvino.com/wp-content/uploads/2023/02/happy-Easter.jpg
END:VEVENT
BEGIN:VEVENT
DTSTART;TZID=America/New_York:20250411T183000
DTEND;TZID=America/New_York:20250411T213000
DTSTAMP:20260419T180624
CREATED:20250110T225826Z
LAST-MODIFIED:20250403T200205Z
UID:10000621-1744396200-1744407000@artnvino.com
SUMMARY:Greek Adventure Private Party
DESCRIPTION:Greek Adventure Private Party -$42 3 Hour Event.  Event starts at 6:30pm and ends at 9:30pm. \nPRIVATE EVENT
URL:https://artnvino.com/event/nikkis-party/
LOCATION:Art ‘n Vino\, 350 Kennedy Blvd.\, Pittston\, PA\, 18640\, United States
CATEGORIES:Private,Public
ATTACH;FMTTYPE=image/jpeg:https://artnvino.com/wp-content/uploads/2025/01/greek-sunset-800-pix.jpg
END:VEVENT
BEGIN:VEVENT
DTSTART;TZID=America/New_York:20250321T183000
DTEND;TZID=America/New_York:20250321T213000
DTSTAMP:20260419T180624
CREATED:20250221T232602Z
LAST-MODIFIED:20250320T170718Z
UID:10000651-1742581800-1742592600@artnvino.com
SUMMARY:Hummingbird $42 -3-Hour Event
DESCRIPTION:“Hummingbird” Art n’ Vino is a B.Y.O.B. paint and sip art studio. Ages 18+. You must be 21 to consume alcohol.  Bring your favorite bottle of wine or other beverage\, your favorite snack and your favorite friends and we’ll take care of the rest. \n$42 for a 3 hour event which does not end abruptly\, we take pride in making sure you are happy with your painting. All night events start at 6:30pm and instruction ends at 9:30. Then relax for the next hour as the artist will “make rounds” helping as our guest drift out the door content with their masterpiece.
URL:https://artnvino.com/event/hummingbird-42-3-hour-event-5/
LOCATION:PA
CATEGORIES:Private,Public
ATTACH;FMTTYPE=image/jpeg:https://artnvino.com/wp-content/uploads/2024/04/hummingbird_800pix.jpg
END:VEVENT
BEGIN:VEVENT
DTSTART;TZID=America/New_York:20250208T170000
DTEND;TZID=America/New_York:20250208T200000
DTSTAMP:20260419T180624
CREATED:20241212T203249Z
LAST-MODIFIED:20250207T182757Z
UID:10000611-1739034000-1739044800@artnvino.com
SUMMARY:Birthday Bash-$42  3 Hour Private Event
DESCRIPTION:Birthday Bash-  Private Party -$42 3 Hour Event.  Event starts at 5:00pm and ends at 8:00pm. \nPRIVATE EVENT- PLEASE DO NOT REGISTER FOR THIS EVENT unless  you are part of the group.  \n  \nArt n’ Vino is a B.Y.O.B. paint and sip art studio. Ages 18+. You must be 21 to consume alcohol. Bring your favorite bottle of wine or other beverage\, your favorite snack and your favorite friends and we’ll take care of the rest. \n$42 for a 3 hour event which does not end abruptly\, we take pride in making sure you are happy with your painting.  Then relax for the next hour as the artist will “make rounds” helping as our guest drift out the door content with their masterpiece.
URL:https://artnvino.com/event/birthday-bash-42-3-hour-private-event/
LOCATION:Art ‘n Vino\, 350 Kennedy Blvd.\, Pittston\, PA\, 18640\, United States
CATEGORIES:Private
ATTACH;FMTTYPE=image/jpeg:https://artnvino.com/wp-content/uploads/2024/04/campfire-800pix.jpg
END:VEVENT
BEGIN:VEVENT
DTSTART;TZID=America/New_York:20241223T180000
DTEND;TZID=America/New_York:20241223T210000
DTSTAMP:20260419T180624
CREATED:20241210T225500Z
LAST-MODIFIED:20241212T002427Z
UID:10000610-1734976800-1734987600@artnvino.com
SUMMARY:Holiday Girl's Night Out-$42  3 Hour Private Event
DESCRIPTION:Holiday Girl’s Night Out Private Party -$42 3 Hour Event.  \nPRIVATE EVENT- PLEASE DO NOT REGISTER FOR THIS EVENT. Event is 6pm-9pm \nArt n’ Vino is a B.Y.O.B. paint and sip art studio. Ages 18+. You must be 21 to consume alcohol. Bring your favorite bottle of wine or other beverage\, your favorite snack and your favorite friends and we’ll take care of the rest. \n$42 for a 3 hour event which does not end abruptly\, we take pride in making sure you are happy with your painting.  Then relax for the next hour as the artist will “make rounds” helping as our guest drift out the door content with their masterpiece.
URL:https://artnvino.com/event/holiday-girls-night-out-42-3-hour-private-event/
LOCATION:Art ‘n Vino\, 350 Kennedy Blvd.\, Pittston\, PA\, 18640\, United States
CATEGORIES:Private
ATTACH;FMTTYPE=image/jpeg:https://artnvino.com/wp-content/uploads/2022/11/christmas-gnome-800pix.jpg
END:VEVENT
BEGIN:VEVENT
DTSTART;TZID=America/New_York:20241214T183000
DTEND;TZID=America/New_York:20241214T213000
DTSTAMP:20260419T180624
CREATED:20240906T164416Z
LAST-MODIFIED:20241121T200719Z
UID:10000559-1734201000-1734211800@artnvino.com
SUMMARY:Happy 85th Birthday Mom -$42  3 Hour Private Event
DESCRIPTION:Happy 85th Birthday Mom.  Private Party -$42 3 Hour Event.  \nPRIVATE EVENT- PLEASE DO NOT REGISTER FOR THIS EVENT unless  you are part of Cheryl’s  group. \nArt n’ Vino is a B.Y.O.B. paint and sip art studio. Ages 18+. You must be 21 to consume alcohol. Bring your favorite bottle of wine or other beverage\, your favorite snack and your favorite friends and we’ll take care of the rest. \n$42 for a 3 hour event which does not end abruptly\, we take pride in making sure you are happy with your painting.  Then relax for the next hour as the artist will “make rounds” helping as our guest drift out the door content with their masterpiece.
URL:https://artnvino.com/event/happy-85th-birthday-mom-42-3-hour-private-event/
LOCATION:Art ‘n Vino\, 350 Kennedy Blvd.\, Pittston\, PA\, 18640\, United States
CATEGORIES:Private
ATTACH;FMTTYPE=image/jpeg:https://artnvino.com/wp-content/uploads/2022/10/winterred_800pix.jpg
END:VEVENT
BEGIN:VEVENT
DTSTART;TZID=America/New_York:20241114T180000
DTEND;TZID=America/New_York:20241114T210000
DTSTAMP:20260419T180624
CREATED:20241024T195724Z
LAST-MODIFIED:20241113T001707Z
UID:10000585-1731607200-1731618000@artnvino.com
SUMMARY:Private Event -$42  3 Hour Private Event
DESCRIPTION:  \nPRIVATE EVENT- PLEASE DO NOT REGISTER FOR THIS EVENT unless  you are part of Sandhya’s  group. Event starts at 6pm and ends at 9pm. \nArt n’ Vino is a B.Y.O.B. paint and sip art studio. Ages 18+. You must be 21 to consume alcohol. Bring your favorite bottle of wine or other beverage\, your favorite snack and your favorite friends and we’ll take care of the rest. \n$42 for a 3 hour event which does not end abruptly\, we take pride in making sure you are happy with your painting.  Then relax for the next hour as the artist will “make rounds” helping as our guest drift out the door content with their masterpiece.
URL:https://artnvino.com/event/private-event-42-3-hour-private-event/
LOCATION:Art ‘n Vino\, 350 Kennedy Blvd.\, Pittston\, PA\, 18640\, United States
CATEGORIES:Private
ATTACH;FMTTYPE=image/jpeg:https://artnvino.com/wp-content/uploads/2022/05/simply-fall-trees_800.jpg
END:VEVENT
BEGIN:VEVENT
DTSTART;TZID=America/New_York:20241018T183000
DTEND;TZID=America/New_York:20241018T213000
DTSTAMP:20260419T180624
CREATED:20240906T163656Z
LAST-MODIFIED:20241016T223138Z
UID:10000558-1729276200-1729287000@artnvino.com
SUMMARY:Erin's Bachelorette Party-$42  3 Hour Private Event
DESCRIPTION:Erin’s Bachelorette Party.  Private Party -$42 3 Hour Event. Painting for evening to be added when completed. Custom Art. \nPRIVATE EVENT- PLEASE DO NOT REGISTER FOR THIS EVENT unless  you are part of this group. \nArt n’ Vino is a B.Y.O.B. paint and sip art studio. Ages 18+. You must be 21 to consume alcohol. Bring your favorite bottle of wine or other beverage\, your favorite snack and your favorite friends and we’ll take care of the rest. \n$42 for a 3 hour event which does not end abruptly\, we take pride in making sure you are happy with your painting.  Then relax for the next hour as the artist will “make rounds” helping as our guest drift out the door content with their masterpiece.
URL:https://artnvino.com/event/erins-bachelorette-party-42-3-hour-private-event/
LOCATION:Art ‘n Vino\, 350 Kennedy Blvd.\, Pittston\, PA\, 18640\, United States
CATEGORIES:Private
END:VEVENT
BEGIN:VEVENT
DTSTART;TZID=America/New_York:20240831T130000
DTEND;TZID=America/New_York:20240831T160000
DTSTAMP:20260419T180624
CREATED:20240803T220931Z
LAST-MODIFIED:20240803T220931Z
UID:10000533-1725109200-1725120000@artnvino.com
SUMMARY:Private Party for Meghan-$42  3 Hour Event
DESCRIPTION:Private Party for Meghan-$42 3 Hour Event. PRIVATE EVENT- PLEASE DO NOT REGISTER FOR THIS EVENT unless  you are part of this group. .  \nEVENT STARTS AT 1PM. ENDS AT 4PM \nMeghan’s Group only. Thank you. \nArt n’ Vino is a B.Y.O.B. paint and sip art studio. Ages 18+. You must be 21 to consume alcohol. Bring your favorite bottle of wine or other beverage\, your favorite snack and your favorite friends and we’ll take care of the rest. \n$42 for a 3 hour event which does not end abruptly\, we take pride in making sure you are happy with your painting.  Then relax for the next hour as the artist will “make rounds” helping as our guest drift out the door content with their masterpiece.
URL:https://artnvino.com/event/private-party-for-meghan-42-3-hour-event/
LOCATION:Art ‘n Vino\, 350 Kennedy Blvd.\, Pittston\, PA\, 18640\, United States
CATEGORIES:Private
ATTACH;FMTTYPE=image/jpeg:https://artnvino.com/wp-content/uploads/2022/05/simply-fall-trees_800.jpg
END:VEVENT
BEGIN:VEVENT
DTSTART;TZID=America/New_York:20240715T180000
DTEND;TZID=America/New_York:20240715T210000
DTSTAMP:20260419T180624
CREATED:20240321T220445Z
LAST-MODIFIED:20240321T223237Z
UID:10000474-1721066400-1721077200@artnvino.com
SUMMARY:Karen's Private Event-$42  3 Hour Event
DESCRIPTION:Private Event–$42 3 Hour Event. PRIVATE EVENT- PLEASE DO NOT REGISTER FOR THIS EVENT.  \nEVENT STARTS AT 6PM. ENDS AT 9PM \nKaren’s Group only. Thank you. \nArt n’ Vino is a B.Y.O.B. paint and sip art studio. Ages 18+. You must be 21 to consume alcohol. Bring your favorite bottle of wine or other beverage\, your favorite snack and your favorite friends and we’ll take care of the rest. \n$42 for a 3 hour event which does not end abruptly\, we take pride in making sure you are happy with your painting.  Then relax for the next hour as the artist will “make rounds” helping as our guest drift out the door content with their masterpiece.
URL:https://artnvino.com/event/karens-private-event-42-3-hour-event/
LOCATION:Art ‘n Vino\, 350 Kennedy Blvd.\, Pittston\, PA\, 18640\, United States
CATEGORIES:Private
ATTACH;FMTTYPE=image/jpeg:https://artnvino.com/wp-content/uploads/2023/02/Poppy-800-pixels.jpg
END:VEVENT
BEGIN:VEVENT
DTSTART;TZID=America/New_York:20240601T180000
DTEND;TZID=America/New_York:20240601T210000
DTSTAMP:20260419T180624
CREATED:20240510T222229Z
LAST-MODIFIED:20240527T162823Z
UID:10000506-1717264800-1717275600@artnvino.com
SUMMARY:Lighthouse over the Dune - $42 - 3 Hour Private Event
DESCRIPTION:PRIVATE EVENT- PLEASE DO NOT REGISTER FOR THIS EVENT.  \nEVENT STARTS AT 6PM. ENDS AT 9pm.  \nTatiana’s Group only. Thank you. \nArt n’ Vino is a B.Y.O.B. paint and sip art studio. Ages 18+. You must be 21 to consume alcohol. Bring your favorite bottle of wine or other beverage\, your favorite snack and your favorite friends and we’ll take care of the rest. \n$42 for a 3 hour event which does not end abruptly\, we take pride in making sure you are happy with your painting.  Then relax for the next hour as the artist will “make rounds” helping as our guest drift out the door content with their masterpiece.
URL:https://artnvino.com/event/lighthouse-over-the-dune-42-3-hour-private-event/
LOCATION:Art ‘n Vino\, 350 Kennedy Blvd.\, Pittston\, PA\, 18640\, United States
CATEGORIES:Private
ATTACH;FMTTYPE=image/jpeg:https://artnvino.com/wp-content/uploads/2022/05/Lighthouse-over-the-Dune-800-pixels.jpg
END:VEVENT
END:VCALENDAR