BEGIN:VCALENDAR
VERSION:2.0
PRODID:-//Art N Vino - ECPv6.15.11//NONSGML v1.0//EN
CALSCALE:GREGORIAN
METHOD:PUBLISH
X-ORIGINAL-URL:https://artnvino.com
X-WR-CALDESC:Events for Art N Vino
REFRESH-INTERVAL;VALUE=DURATION:PT1H
X-Robots-Tag:noindex
X-PUBLISHED-TTL:PT1H
BEGIN:VTIMEZONE
TZID:America/New_York
BEGIN:DAYLIGHT
TZOFFSETFROM:-0500
TZOFFSETTO:-0400
TZNAME:EDT
DTSTART:20230312T070000
END:DAYLIGHT
BEGIN:STANDARD
TZOFFSETFROM:-0400
TZOFFSETTO:-0500
TZNAME:EST
DTSTART:20231105T060000
END:STANDARD
BEGIN:DAYLIGHT
TZOFFSETFROM:-0500
TZOFFSETTO:-0400
TZNAME:EDT
DTSTART:20240310T070000
END:DAYLIGHT
BEGIN:STANDARD
TZOFFSETFROM:-0400
TZOFFSETTO:-0500
TZNAME:EST
DTSTART:20241103T060000
END:STANDARD
BEGIN:DAYLIGHT
TZOFFSETFROM:-0500
TZOFFSETTO:-0400
TZNAME:EDT
DTSTART:20250309T070000
END:DAYLIGHT
BEGIN:STANDARD
TZOFFSETFROM:-0400
TZOFFSETTO:-0500
TZNAME:EST
DTSTART:20251102T060000
END:STANDARD
END:VTIMEZONE
BEGIN:VEVENT
DTSTART;TZID=America/New_York:20240906T183000
DTEND;TZID=America/New_York:20240906T213000
DTSTAMP:20260423T215224
CREATED:20240817T230835Z
LAST-MODIFIED:20240906T175410Z
UID:10000542-1725647400-1725658200@artnvino.com
SUMMARY:Tuscan Fall- New Art- $42 - 3 Hour Event
DESCRIPTION:“Tuscan Fall”. New Art.  Art n’ Vino is a B.Y.O.B. paint and sip art studio. Bring your favorite bottle of wine or other beverage\, your favorite snack and your favorite friends and we’ll take care of the rest. Ages 18 to attend. 21 to consume alcohol. \n$42 for a 3 hour event which does not end abruptly\, we take pride in making sure you are happy with your painting. All night events start at 6:30pm and instruction ends at 9:30. Then relax for the next hour as the artist will “make rounds” helping as our guest drift out the door content with their masterpiece.
URL:https://artnvino.com/event/tuscan-fall-new-art-42-3-hour-event/
LOCATION:Art ‘n Vino\, 350 Kennedy Blvd.\, Pittston\, PA\, 18640\, United States
CATEGORIES:Public
ATTACH;FMTTYPE=image/jpeg:https://artnvino.com/wp-content/uploads/2024/08/tuscan-fall-800-pix.jpg
END:VEVENT
BEGIN:VEVENT
DTSTART;TZID=America/New_York:20240913T183000
DTEND;TZID=America/New_York:20240913T213000
DTSTAMP:20260423T215224
CREATED:20240824T223253Z
LAST-MODIFIED:20240905T181851Z
UID:10000545-1726252200-1726263000@artnvino.com
SUMMARY:Wizard's Pumpkin- $42 - 3 Hour Event
DESCRIPTION:“Wizard’s Pumpkin”.  Art n’ Vino is a B.Y.O.B. paint and sip art studio. Bring your favorite bottle of wine or other beverage\, your favorite snack and your favorite friends and we’ll take care of the rest. Ages 18 to attend. 21 to consume alcohol. \n$42 for a 3 hour event which does not end abruptly\, we take pride in making sure you are happy with your painting. All night events start at 6:30pm and instruction ends at 9:30. Then relax for the next hour as the artist will “make rounds” helping as our guest drift out the door content with their masterpiece.
URL:https://artnvino.com/event/wizards-pumpkin-42-3-hour-event-4/
LOCATION:Art ‘n Vino\, 350 Kennedy Blvd.\, Pittston\, PA\, 18640\, United States
CATEGORIES:Public
ATTACH;FMTTYPE=image/jpeg:https://artnvino.com/wp-content/uploads/2022/08/wizards-pumpkin_800pix.jpg
END:VEVENT
BEGIN:VEVENT
DTSTART;TZID=America/New_York:20240914T183000
DTEND;TZID=America/New_York:20240914T213000
DTSTAMP:20260423T215224
CREATED:20240829T182122Z
LAST-MODIFIED:20240829T182122Z
UID:10000551-1726338600-1726349400@artnvino.com
SUMMARY:American Autumn- $42 - 3 Hour Event
DESCRIPTION:“American Autumn”.  Art n’ Vino is a B.Y.O.B. paint and sip art studio. Bring your favorite bottle of wine or other beverage\, your favorite snack and your favorite friends and we’ll take care of the rest. Ages 18 to attend. 21 to consume alcohol. \n$42 for a 3 hour event which does not end abruptly\, we take pride in making sure you are happy with your painting. All night events start at 6:30pm and instruction ends at 9:30. Then relax for the next hour as the artist will “make rounds” helping as our guest drift out the door content with their masterpiece.
URL:https://artnvino.com/event/american-autumn-42-3-hour-event/
LOCATION:Art ‘n Vino\, 350 Kennedy Blvd.\, Pittston\, PA\, 18640\, United States
CATEGORIES:Public
ATTACH;FMTTYPE=image/jpeg:https://artnvino.com/wp-content/uploads/2024/08/american-autumn-ligh-blue-800pix.jpg
END:VEVENT
BEGIN:VEVENT
DTSTART;TZID=America/New_York:20240920T183000
DTEND;TZID=America/New_York:20240920T213000
DTSTAMP:20260423T215224
CREATED:20240803T224627Z
LAST-MODIFIED:20240914T222942Z
UID:10000537-1726857000-1726867800@artnvino.com
SUMMARY:Autumn Read- $42 - 3 Hour Event
DESCRIPTION:“Autumn Read”.  Art n’ Vino is a B.Y.O.B. paint and sip art studio. Bring your favorite bottle of wine or other beverage\, your favorite snack and your favorite friends and we’ll take care of the rest. Ages 18 to attend. 21 to consume alcohol. \n$42 for a 3 hour event which does not end abruptly\, we take pride in making sure you are happy with your painting. All night events start at 6:30pm and instruction ends at 9:30. Then relax for the next hour as the artist will “make rounds” helping as our guest drift out the door content with their masterpiece.
URL:https://artnvino.com/event/autumn-read-42-3-hour-event-2/
LOCATION:Art ‘n Vino\, 350 Kennedy Blvd.\, Pittston\, PA\, 18640\, United States
CATEGORIES:Public
ATTACH;FMTTYPE=image/jpeg:https://artnvino.com/wp-content/uploads/2023/09/autumn-read-800pix.jpg
END:VEVENT
BEGIN:VEVENT
DTSTART;TZID=America/New_York:20240921T183000
DTEND;TZID=America/New_York:20240921T213000
DTSTAMP:20260423T215224
CREATED:20240824T225546Z
LAST-MODIFIED:20240921T211005Z
UID:10000548-1726943400-1726954200@artnvino.com
SUMMARY:Fright Night- $42 - 3 Hour Event
DESCRIPTION:“Fright Night”.  Art n’ Vino is a B.Y.O.B. paint and sip art studio. Bring your favorite bottle of wine or other beverage\, your favorite snack and your favorite friends and we’ll take care of the rest. Ages 18 to attend. 21 to consume alcohol. \n$42 for a 3 hour event which does not end abruptly\, we take pride in making sure you are happy with your painting. All night events start at 6:30pm and instruction ends at 9:30. Then relax for the next hour as the artist will “make rounds” helping as our guest drift out the door content with their masterpiece.
URL:https://artnvino.com/event/fright-night-42-3-hour-event-2/
LOCATION:Art ‘n Vino\, 350 Kennedy Blvd.\, Pittston\, PA\, 18640\, United States
CATEGORIES:Public
ATTACH;FMTTYPE=image/jpeg:https://artnvino.com/wp-content/uploads/2023/08/Fright-NIght-800-pixels.jpg
END:VEVENT
BEGIN:VEVENT
DTSTART;TZID=America/New_York:20240928T183000
DTEND;TZID=America/New_York:20240928T213000
DTSTAMP:20260423T215224
CREATED:20240817T231001Z
LAST-MODIFIED:20240925T231019Z
UID:10000543-1727548200-1727559000@artnvino.com
SUMMARY:Tuscan Fall- New Art- $42 - 3 Hour Event
DESCRIPTION:“Tuscan Fall”. New Art.  Art n’ Vino is a B.Y.O.B. paint and sip art studio. Bring your favorite bottle of wine or other beverage\, your favorite snack and your favorite friends and we’ll take care of the rest. Ages 18 to attend. 21 to consume alcohol. \n$42 for a 3 hour event which does not end abruptly\, we take pride in making sure you are happy with your painting. All night events start at 6:30pm and instruction ends at 9:30. Then relax for the next hour as the artist will “make rounds” helping as our guest drift out the door content with their masterpiece.
URL:https://artnvino.com/event/tuscan-fall-new-art-42-3-hour-event-2/
LOCATION:Art ‘n Vino\, 350 Kennedy Blvd.\, Pittston\, PA\, 18640\, United States
CATEGORIES:Public
ATTACH;FMTTYPE=image/jpeg:https://artnvino.com/wp-content/uploads/2024/08/tuscan-fall-800-pix.jpg
END:VEVENT
BEGIN:VEVENT
DTSTART;TZID=America/New_York:20240929T140000
DTEND;TZID=America/New_York:20240929T170000
DTSTAMP:20260423T215224
CREATED:20240824T230607Z
LAST-MODIFIED:20240926T231727Z
UID:10000550-1727618400-1727629200@artnvino.com
SUMMARY:Rescue Warriors Cat Rescue- Public Fundraiser- $42 - 3 Hour Event
DESCRIPTION:This event is a public  fundraiser for The Rescue Warriors Cat Rescue. \nEvent is 2p-5p. \nAges 18+. You must be 21 to consume alcohol. \nRescue Warriors is a local foster-based rescue. All monies raised will be applied to our veterinary care. \nCheck will be presented just before the event starts. \n 
URL:https://artnvino.com/event/rescue-warriors-cat-rescue-public-fundraiser-42-3-hour-event/
LOCATION:Art ‘n Vino\, 350 Kennedy Blvd.\, Pittston\, PA\, 18640\, United States
CATEGORIES:Public
ATTACH;FMTTYPE=image/jpeg:https://artnvino.com/wp-content/uploads/2024/08/wizards-cat-800pix.jpg
END:VEVENT
END:VCALENDAR