BEGIN:VCALENDAR
VERSION:2.0
PRODID:-//Art N Vino - ECPv6.15.11//NONSGML v1.0//EN
CALSCALE:GREGORIAN
METHOD:PUBLISH
X-ORIGINAL-URL:https://artnvino.com
X-WR-CALDESC:Events for Art N Vino
REFRESH-INTERVAL;VALUE=DURATION:PT1H
X-Robots-Tag:noindex
X-PUBLISHED-TTL:PT1H
BEGIN:VTIMEZONE
TZID:America/New_York
BEGIN:DAYLIGHT
TZOFFSETFROM:-0500
TZOFFSETTO:-0400
TZNAME:EDT
DTSTART:20240310T070000
END:DAYLIGHT
BEGIN:STANDARD
TZOFFSETFROM:-0400
TZOFFSETTO:-0500
TZNAME:EST
DTSTART:20241103T060000
END:STANDARD
BEGIN:DAYLIGHT
TZOFFSETFROM:-0500
TZOFFSETTO:-0400
TZNAME:EDT
DTSTART:20250309T070000
END:DAYLIGHT
BEGIN:STANDARD
TZOFFSETFROM:-0400
TZOFFSETTO:-0500
TZNAME:EST
DTSTART:20251102T060000
END:STANDARD
BEGIN:DAYLIGHT
TZOFFSETFROM:-0500
TZOFFSETTO:-0400
TZNAME:EDT
DTSTART:20260308T070000
END:DAYLIGHT
BEGIN:STANDARD
TZOFFSETFROM:-0400
TZOFFSETTO:-0500
TZNAME:EST
DTSTART:20261101T060000
END:STANDARD
END:VTIMEZONE
BEGIN:VEVENT
DTSTART;TZID=America/New_York:20250905T183000
DTEND;TZID=America/New_York:20250905T213000
DTSTAMP:20260423T055044
CREATED:20250729T223159Z
LAST-MODIFIED:20250729T223159Z
UID:10000713-1757097000-1757107800@artnvino.com
SUMMARY:Campfire- $42 - 3 Hour Event
DESCRIPTION:“Campfire”.  Art n’ Vino is a B.Y.O.B. paint and sip art studio. Bring your favorite bottle of wine or other beverage\, your favorite snack and your favorite friends and we’ll take care of the rest. Ages 18 to attend. 21 to consume alcohol. \n$42 for a 3 hour event which does not end abruptly\, we take pride in making sure you are happy with your painting. All night events start at 6:30pm and instruction ends at 9:30. Then relax for the next hour as the artist will “make rounds” helping as our guest drift out the door content with their masterpiece.
URL:https://artnvino.com/event/campfire-42-3-hour-event/
LOCATION:Art ‘n Vino\, 350 Kennedy Blvd.\, Pittston\, PA\, 18640\, United States
CATEGORIES:Public
ATTACH;FMTTYPE=image/jpeg:https://artnvino.com/wp-content/uploads/2024/04/campfire-800pix.jpg
END:VEVENT
BEGIN:VEVENT
DTSTART;TZID=America/New_York:20250906T183000
DTEND;TZID=America/New_York:20250906T213000
DTSTAMP:20260423T055044
CREATED:20250729T222406Z
LAST-MODIFIED:20250729T222456Z
UID:10000712-1757183400-1757194200@artnvino.com
SUMMARY:Cross into Autumn- $42 - 3 Hour Event
DESCRIPTION:“Cross into Autumn”.  Art n’ Vino is a B.Y.O.B. paint and sip art studio. Bring your favorite bottle of wine or other beverage\, your favorite snack and your favorite friends and we’ll take care of the rest. Ages 18 to attend. 21 to consume alcohol. \n$42 for a 3 hour event which does not end abruptly\, we take pride in making sure you are happy with your painting. All night events start at 6:30pm and instruction ends at 9:30. Then relax for the next hour as the artist will “make rounds” helping as our guest drift out the door content with their masterpiece.
URL:https://artnvino.com/event/cross-into-autumn-42-3-hour-event-3/
LOCATION:Art ‘n Vino\, 350 Kennedy Blvd.\, Pittston\, PA\, 18640\, United States
CATEGORIES:Public
ATTACH;FMTTYPE=image/jpeg:https://artnvino.com/wp-content/uploads/2022/08/cross-into-autumn-_800pix.jpg
END:VEVENT
BEGIN:VEVENT
DTSTART;TZID=America/New_York:20250910T183000
DTEND;TZID=America/New_York:20250910T213000
DTSTAMP:20260423T055044
CREATED:20250729T212411Z
LAST-MODIFIED:20250909T161236Z
UID:10000709-1757529000-1757539800@artnvino.com
SUMMARY:Nurse Practitioners Private Party
DESCRIPTION:This is a Private Event.
URL:https://artnvino.com/event/poppy-42-3-hour-event/
LOCATION:Art ‘n Vino\, 350 Kennedy Blvd.\, Pittston\, PA\, 18640\, United States
CATEGORIES:Public
ATTACH;FMTTYPE=image/jpeg:https://artnvino.com/wp-content/uploads/2022/08/wizards-pumpkin_Light-800pix.jpg
END:VEVENT
BEGIN:VEVENT
DTSTART;TZID=America/New_York:20250912T183000
DTEND;TZID=America/New_York:20250912T213000
DTSTAMP:20260423T055044
CREATED:20240803T225007Z
LAST-MODIFIED:20250813T220117Z
UID:10000538-1757701800-1757712600@artnvino.com
SUMMARY:Simply Fall Trees- $42 - 3 Hour Event
DESCRIPTION:“Simply Fall Trees”.  Art n’ Vino is a B.Y.O.B. paint and sip art studio. Bring your favorite bottle of wine or other beverage\, your favorite snack and your favorite friends and we’ll take care of the rest. Ages 18 to attend. 21 to consume alcohol. \n$42 for a 3 hour event which does not end abruptly\, we take pride in making sure you are happy with your painting. All night events start at 6:30pm and instruction ends at 9:30. Then relax for the next hour as the artist will “make rounds” helping as our guest drift out the door content with their masterpiece.
URL:https://artnvino.com/event/simply-fall-trees-42-3-hour-event-2/
LOCATION:Art ‘n Vino\, 350 Kennedy Blvd.\, Pittston\, PA\, 18640\, United States
CATEGORIES:Public
ATTACH;FMTTYPE=image/jpeg:https://artnvino.com/wp-content/uploads/2022/05/simply-fall-trees_800.jpg
END:VEVENT
BEGIN:VEVENT
DTSTART;TZID=America/New_York:20250919T130000
DTEND;TZID=America/New_York:20250919T140000
DTSTAMP:20260423T055044
CREATED:20250825T184340Z
LAST-MODIFIED:20250829T173851Z
UID:10000716-1758286800-1758290400@artnvino.com
SUMMARY:Cathy's Private Party
DESCRIPTION:This event is a private party\, if you were not invited by the quest\, lease don’t register.
URL:https://artnvino.com/event/cathys-private-party/
LOCATION:Art ‘n Vino\, 350 Kennedy Blvd.\, Pittston\, PA\, 18640\, United States
ATTACH;FMTTYPE=image/jpeg:https://artnvino.com/wp-content/uploads/2022/05/simply-fall-trees_800.jpg
END:VEVENT
BEGIN:VEVENT
DTSTART;TZID=America/New_York:20250920T183000
DTEND;TZID=America/New_York:20250920T213000
DTSTAMP:20260423T055044
CREATED:20250815T221609Z
LAST-MODIFIED:20250917T153511Z
UID:10000715-1758393000-1758403800@artnvino.com
SUMMARY:Moon and Starstruck $42 - 3 Hour Event
DESCRIPTION:“Moon and Starstruck”\, an all season popular classic theme from 2015. Art n’ Vino is a B.Y.O.B. paint and sip art studio. Bring your favorite bottle of wine or other beverage\, your favorite snack and your favorite friends and we’ll take care of the rest. \n$42 for a 3 hour event which does not end abruptly\, we take pride in making sure you are happy with your painting. All night events start at 6:30pm and instruction ends at 9:30. Then relax for the next hour as the artist will “make rounds” helping as our guest drift out the door content with their masterpiece.
URL:https://artnvino.com/event/moon-and-starstruck-42-3-hour-event-2/
LOCATION:PA
ATTACH;FMTTYPE=image/jpeg:https://artnvino.com/wp-content/uploads/2022/08/moonstruck-22-800pix.jpg
END:VEVENT
BEGIN:VEVENT
DTSTART;TZID=America/New_York:20250927T183000
DTEND;TZID=America/New_York:20250927T213000
DTSTAMP:20260423T055044
CREATED:20240611T145249Z
LAST-MODIFIED:20250905T174102Z
UID:10000518-1758997800-1759008600@artnvino.com
SUMMARY:Campfire-  $42 - 3 Hour Event
DESCRIPTION:“Campfire” . Art n’ Vino is a B.Y.O.B. paint and sip art studio. Bring your favorite bottle of wine or other beverage\, your favorite snack and your favorite friends and we’ll take care of the rest. Ages 18 to attend. 21 to consume alcohol. \n$42 for a 3 hour event which does not end abruptly\, we take pride in making sure you are happy with your painting. All night events start at 6:30pm and instruction ends at 9:30. Then relax for the next hour as the artist will “make rounds” helping as our guest drift out the door content with their masterpiece.
URL:https://artnvino.com/event/tropical-afternoon-42-3-hour-event-2/
LOCATION:Art ‘n Vino\, 350 Kennedy Blvd.\, Pittston\, PA\, 18640\, United States
CATEGORIES:Public
ATTACH;FMTTYPE=image/jpeg:https://artnvino.com/wp-content/uploads/2024/04/campfire-800pix.jpg
END:VEVENT
END:VCALENDAR