BEGIN:VCALENDAR
VERSION:2.0
PRODID:-//Art N Vino - ECPv6.15.11//NONSGML v1.0//EN
CALSCALE:GREGORIAN
METHOD:PUBLISH
X-WR-CALNAME:Art N Vino
X-ORIGINAL-URL:https://artnvino.com
X-WR-CALDESC:Events for Art N Vino
REFRESH-INTERVAL;VALUE=DURATION:PT1H
X-Robots-Tag:noindex
X-PUBLISHED-TTL:PT1H
BEGIN:VTIMEZONE
TZID:America/New_York
BEGIN:DAYLIGHT
TZOFFSETFROM:-0500
TZOFFSETTO:-0400
TZNAME:EDT
DTSTART:20250309T070000
END:DAYLIGHT
BEGIN:STANDARD
TZOFFSETFROM:-0400
TZOFFSETTO:-0500
TZNAME:EST
DTSTART:20251102T060000
END:STANDARD
BEGIN:DAYLIGHT
TZOFFSETFROM:-0500
TZOFFSETTO:-0400
TZNAME:EDT
DTSTART:20260308T070000
END:DAYLIGHT
BEGIN:STANDARD
TZOFFSETFROM:-0400
TZOFFSETTO:-0500
TZNAME:EST
DTSTART:20261101T060000
END:STANDARD
BEGIN:DAYLIGHT
TZOFFSETFROM:-0500
TZOFFSETTO:-0400
TZNAME:EDT
DTSTART:20270314T070000
END:DAYLIGHT
BEGIN:STANDARD
TZOFFSETFROM:-0400
TZOFFSETTO:-0500
TZNAME:EST
DTSTART:20271107T060000
END:STANDARD
END:VTIMEZONE
BEGIN:VEVENT
DTSTART;TZID=America/New_York:20260613T183000
DTEND;TZID=America/New_York:20260613T210000
DTSTAMP:20260423T182134
CREATED:20260422T235158Z
LAST-MODIFIED:20260422T235158Z
UID:10000849-1781375400-1781384400@artnvino.com
SUMMARY:Summer Mountain -New Art- $44 -3 Hour Public Event
DESCRIPTION:“Summer Mountain” -New Art- $44 -3 Hour Public Event \nArt n’ Vino is a B.Y.O.B. paint and sip art studio. Ages 18+. You must be 21 to consume alcohol.  Bring your favorite bottle of wine or other beverage\, your favorite snack and your favorite friends and we’ll take care of the rest. \n$44 for a 3 hour event which does not end abruptly\, we take pride in making sure you are happy with your painting. All night events start at 6:30pm and instruction ends at 9:30. Then relax for the next hour as the artist will “make rounds” helping as our guest drift out the door content with their masterpiece.
URL:https://artnvino.com/event/summer-mountain-new-art-44-3-hour-public-event-3/
LOCATION:Art ‘n Vino\, 350 Kennedy Blvd.\, Pittston\, PA\, 18640\, United States
CATEGORIES:Public
ATTACH;FMTTYPE=image/jpeg:https://artnvino.com/wp-content/uploads/2026/01/kayla-landscape800-pix.jpg
END:VEVENT
END:VCALENDAR